Workbook

Sheet 会社情報
B2: 会社情報の入力
B4: 請求書の貴社名にゴム印を使用しますか？
B6: ゴム印を使用 | C6: しない
B8: 貴社の業者コード（数字６ケタ）をご入力下さい。
B9: 業者コード
B10: *業者コードが不明の場合は、弊社担当者までお問い合わせ下さい。
B11: *業者コードが未定の場合は取引銀行欄の記入をお願いします。
B13: 貴社名（商号）、代表者、住所、電話番号についてご入力下さい。
B14: 〒番号 | C14: 956 | E14: － | F14: 1937
B15: 住所 | C15: 新潟県阿賀野市福井905番地
B16: 会社名 | C16: 小菅建設興業株式会社
B17: インボイス | C17: 登録番号 T 5110001011484
B18: 電話番号（連絡先） | C18: 0250-62-0505 | J18: "-"を入れて下さい
B19: FAX番号（連絡先） | C19: 0250-62-1711 | J19: "-"を入れて下さい
B21: 取引銀行についてご入力下さい。
B22: 銀行名 | C22: 第四北越銀行
B23: 店名 | C23: 水原中央支店
B24: 口座名（ｶﾀｶﾅ） | C24: ｺｽｹﾞｹﾝｾﾂｺｳｷﾞｮｳｶﾌﾞｼｷｶﾞｲｼ
B25: 口座種別／番号 | C25: 種別 | D25: 当座 | E25: 番号 | F25: 999999

Sheet 請求書A 
V4: 請 求 書 | AG4: Ａ | AS4: 請求書No． | AZ4: 月 | BD4: 番
BB5: -
B6: 小菅建設興業株式会社 御中 | AS6: 請求年月日
B9: 下記の通り請求致します。 | AG9: 会社名・社名・電話番号
AG10: =IF(会社情報!$C$6="しない",会社情報!$C$14,"") -> 956 | AJ10: =IF(会社情報!$C$6="しない","-","") -> - | AK10: =IF(会社情報!$C$6="しない",会社情報!$F$14,"") -> 1937
AG11: =IF(会社情報!$C$6="しない",会社情報!$C$15,"") -> 新潟県阿賀野市福井905番地
B13: 工事名 | AG13: =IF(会社情報!$C$6="しない",会社情報!$C$16,"") -> 小菅建設興業株式会社
AA14: -
AG15: =IF(会社情報!$C$6="しない",会社情報!$C$17,"") -> 登録番号 T 5110001011484
B16: 工 種 | AG16: =IF(会社情報!$C$6="しない","TEL "&会社情報!$C$18,"") -> TEL 0250-62-0505
AG17: =IF(会社情報!$C$6="しない","FAX "&会社情報!$C$19,"") -> FAX 0250-62-1711
AH21: 業者コード | AP21: =IF(会社情報!C9>0,会社情報!$C$9,"")
C22: 請求金額 | P22: =SUM(P25:Z29) -> 0
AE24: 取引銀行 | AK24: =IF(会社情報!$C$6="しない",CONCATENATE(会社情報!$C$22,会社情報!$C$23),"") -> 第四北越銀行水原中央支店
C25: 内 訳 | E25: ⑥ 金 額 計 | P25: =P37 -> 0
AE26: 口座名義 | AK26: =IF(会社情報!$C$6="しない",会社情報!$C$24,"") -> ｺｽｹﾞｹﾝｾﾂｺｳｷﾞｮｳｶﾌﾞｼｷｶﾞｲｼ
E28: ⑪消費税( | K28: 10 | N28: %) | P28: =ROUND(P37*(K28/100),1) -> 0 | AE28: 口座番号 | AK28: 種別 | AN28: =IF(会社情報!$C$6="しない",会社情報!$D$25,"") -> 当座 | AQ28: 番号 | AT28: =IF(会社情報!$C$6="しない",会社情報!$F$25,"") -> 999999
C32: ① | E32: 当 初 契 約 額
C33: ② | E33: 変 更 契 約 額
C34: ③ | E34: 総 消 費 税 額 | P34: =ROUND((P32+P33)*0.1,1) -> 0
C35: ④ | E35: 総出来高( | K35: =IF(P32="","",(ROUND(P35/(P32+P33),3)*100)) | N35: %) | P35: =+P36+P37 -> 0
C36: ⑤ | E36: 前回迄請求額（出来高）
C37: ⑥ | E37: 今回請求額（出来高） | P37: =AE46 -> 0
C38: ⑦ | E38: 差 引 残 高 | P38: =P32+P33-P35 -> 0
C39: ⑧ | E39: 前回迄消費税 | P39: =P36*0.1 -> 0
C40: ⑨ | E40: 差 引 消 費 税 | P40: =P34-(P28+P39) -> 0
C41: ⑥ | E41: 今回の出来高の内訳
C42: 日付 | F42: 摘 要 | R42: 単位 | T42: 数量 | X42: 単 価 | AE42: 金 額
AE43: =ROUND(T43*X43,0) -> 0
AE44: =ROUND(T44*X44,0) -> 0
AE45: =ROUND(T45*X45,0) -> 0
C46: 計 | AE46: =SUM(AE43:AM45) -> 0
C49: １）請求書の記入について | O49: ● | Q49: 契約額等は | U49: 税抜 | W49: 金額にて記入して下さい。
O51: ● | Q51: 工事コード | V51: ごとに作成して下さい。
O53: ● | Q53: 業者コード | V53: は必ず記入して下さい。未定の場合は空白にして下さい。
O55: ● | Q55: ③総出来高は現場の担当者と打合せの上、万単位の金額で記入して下さい。
C57: ２）請求書の提出について | O57: ● | Q57: 請求書NO. | V57: を付番して「請求書送付案内」に添付して提出して下さい。
O59: ● | Q59: ①請求者控を除く３枚を所定の日までに提出して下さい。提出が遅れますと翌月扱いとなり
Q61: ますのでご注意下さい。
J63: ①請求者控
...

Sheet 請求書A 白紙（手書用）
V4: 請 求 書 | AG4: Ａ | AS4: 請求書No． | AZ4: 月 | BD4: 番
BB5: -
B6: 小菅建設興業株式会社 御中 | AS6: 請求年月日
B9: 下記の通り請求致します。 | AG9: 会社名・社名・電話番号
AJ10: =IF(会社情報!$C$6="しない","-","") -> -
B13: 工事名
AA14: -
AG15: 登録番号 T
B16: 工 種 | AG16: TEL
AG17: FAX
AH21: 業者コード
C22: 請求金額
AE24: 取引銀行
C25: 内 訳 | E25: ⑥ 金 額 計
AE26: 口座名義
E28: ⑪消費税( | K28: 10 | N28: %) | AE28: 口座番号 | AK28: 種別 | AQ28: 番号
C32: ① | E32: 当 初 契 約 額
C33: ② | E33: 変 更 契 約 額
C34: ③ | E34: 総 消 費 税 額
C35: ④ | E35: 総出来高( | N35: %)
C36: ⑤ | E36: 前回迄請求額（出来高）
C37: ⑥ | E37: 今回請求額（出来高）
C38: ⑦ | E38: 差 引 残 高
C39: ⑧ | E39: 前回迄消費税
C40: ⑨ | E40: 差 引 消 費 税
C41: ⑥ | E41: 今回の出来高の内訳
C42: 日付 | F42: 摘 要 | R42: 単位 | T42: 数量 | X42: 単 価 | AE42: 金 額
C46: 計
C49: １）請求書の記入について | O49: ● | Q49: 契約額等は | U49: 税抜 | W49: 金額にて記入して下さい。
O51: ● | Q51: 工事コード | V51: ごとに作成して下さい。
O53: ● | Q53: 業者コード | V53: は必ず記入して下さい。未定の場合は空白にして下さい。
O55: ● | Q55: ③総出来高は現場の担当者と打合せの上、万単位の金額で記入して下さい。
C57: ２）請求書の提出について | O57: ● | Q57: 請求書NO. | V57: を付番して「請求書送付案内」に添付して提出して下さい。
O59: ● | Q59: ①請求者控を除く３枚を所定の日までに提出して下さい。提出が遅れますと翌月扱いとなり
Q61: ますのでご注意下さい。
J63: ①請求者控
