Workbook

Sheet 会社情報
B2: 会社情報の入力
B4: 請求書の貴社名にゴム印を使用しますか？
B6: ゴム印を使用 | C6: しない
B8: 貴社の業者コード（数字６ケタ）をご入力下さい。
B9: 業者コード | C9: 100001
B10: *業者コードが不明の場合は、弊社担当者までお問い合わせ下さい。
B11: *業者コードが未定の場合は取引銀行欄の記入をお願いします。
B13: 貴社名（商号）、代表者、住所、電話番号についてご入力下さい。
B14: 〒番号 | C14: 956 | E14: － | F14: 1937
B15: 住所 | C15: 阿賀野市福井905番地
B16: 会社名 | C16: 小菅建設興業株式会社
B17: インボイス | C17: 登録番号 T 5110001011484
B18: 電話番号（連絡先） | C18: 0250-62-0505 | J18: "-"を入れて下さい
B19: FAX番号（連絡先） | C19: 0250-62-1711 | J19: "-"を入れて下さい
B21: 取引銀行についてご入力下さい。
B22: 銀行名 | C22: 第四北越銀行
B23: 店名 | C23: 水原中央支店
B24: 口座名（ｶﾀｶﾅ） | C24: ｺｽｹﾞｹﾝｾﾂｺｳｷﾞｮｳｶﾌﾞｼｷｶﾞｲｼ
B25: 口座種別／番号 | C25: 種別 | D25: 当座 | E25: 番号 | F25: 9999999

Sheet 請求書Ｂ
S4: 請 求 書 | AD4: Ｂ | AP4: 請求書No． | AW4: 月 | BA4: 番
AV5: 10 | AY5: - | AZ5: 1
B6: 小菅建設興業株式会社 御中 | AP6: 請求年月日 | AV6: 45230
B9: 下記の通り請求致します。 | AD9: 会社名・社名・登録番号・電話・FAX
AD10: =IF(会社情報!$C$6="しない",会社情報!$C$14,"") -> 956 | AG10: =IF(会社情報!$C$6="しない","-","") -> - | AH10: =IF(会社情報!$C$6="しない",会社情報!$F$14,"") -> 1937
AD11: =IF(会社情報!$C$6="しない",会社情報!$C$15,"") -> 阿賀野市福井905番地
B13: 工事名又は納入場所 | O13: 工事ｺｰﾄﾞ | AD13: =IF(会社情報!$C$6="しない",会社情報!$C$16,"") -> 小菅建設興業株式会社
X14: -
AD15: =IF(会社情報!$C$6="しない",会社情報!$C$17,"") -> 登録番号 T 5110001011484
AD16: =IF(会社情報!$C$6="しない","TEL "&会社情報!$C$18,"") -> TEL 0250-62-0505
AD17: =IF(会社情報!$C$6="しない","FAX "&会社情報!$C$19,"") -> FAX 0250-62-1711
C19: 請 求 金 額 | M19: =AO50 | AE19: 業者コード | AM19: =IF(会社情報!C9>0,会社情報!$C$9,"") -> 100001
AB22: 取引銀行 | AH22: =IF(会社情報!$C$6="しない",CONCATENATE(会社情報!$C$22,会社情報!$C$23),"") -> 第四北越銀行水原中央支店
AB24: 口座名義 | AH24: =IF(会社情報!$C$6="しない",会社情報!$C$24,"") -> ｺｽｹﾞｹﾝｾﾂｺｳｷﾞｮｳｶﾌﾞｼｷｶﾞｲｼ
AB26: 口座番号 | AH26: 種別 | AK26: =IF(会社情報!$C$6="しない",会社情報!$D$25,"") -> 当座 | AN26: 番号 | AQ26: =IF(会社情報!$C$6="しない",会社情報!$F$25,"") -> 9999999
B27: 単価は消費税抜きで入力（記入）して下さい
B29: 日付 | C29: 品名又は摘要 | V29: 税率 | Y29: 軽減 | AB29: 単位 | AE29: 数量 | AJ29: 単価 | AO29: 金額
Y30: =IF(V30=8%,"※","") | AO30: =IF(AJ30="","",ROUND(AE30*AJ30,0.1))
Y31: =IF(V31=8%,"※","") | AO31: =IF(AJ31="","",ROUND(AE31*AJ31,0.1))
Y32: =IF(V32=8%,"※","") | AO32: =IF(AJ32="","",ROUND(AE32*AJ32,0.1))
Y33: =IF(V33=8%,"※","") | AO33: =IF(AJ33="","",ROUND(AE33*AJ33,0.1))
Y34: =IF(V34=8%,"※","") | AO34: =IF(AJ34="","",ROUND(AE34*AJ34,0.1))
Y35: =IF(V35=8%,"※","") | AO35: =IF(AJ35="","",ROUND(AE35*AJ35,0.1))
Y36: =IF(V36=8%,"※","") | AO36: =IF(AJ36="","",ROUND(AE36*AJ36,0.1))
Y37: =IF(V37=8%,"※","") | AO37: =IF(AJ37="","",ROUND(AE37*AJ37,0.1))
Y38: =IF(V38=8%,"※","") | AO38: =IF(AJ38="","",ROUND(AE38*AJ38,0.1))
Y39: =IF(V39=8%,"※","") | AO39: =IF(AJ39="","",ROUND(AE39*AJ39,0.1))
Y40: =IF(V40=8%,"※","") | AO40: =IF(AJ40="","",ROUND(AE40*AJ40,0.1))
Y41: =IF(V41=8%,"※","") | AO41: =IF(AJ41="","",ROUND(AE41*AJ41,0.1))
... Y43: =IF(V43=8%,"※","") | AO43: =IF(AJ43="","",ROUND(AE43*AJ43,0.1))
AE44: うち10％対象計 | AO44: =IF(SUM(AO30:AT43)=0,"",(SUMIF(V30:X43,"10%",AO30:AT43)))
AE45: うち8％対象計 | AO45: =IF(SUM(AO30:AT43)=0,"",(SUMIF(V30:X43,"8%",AO30:AT43)))
AE46: うち0％対象計 | AO46: =IF(SUM(AO30:AT43)=0,"",(SUMIF(V30:X43,"0%",AO30:AT43)))
AE47: 小計（税抜） | AO47: =IF(SUM(AO44:AT46)=0,"",SUM(AO44:AT46))
AE48: 消費税（10％） | AO48: =IF(AO44="","",INT(AO44*0.1))
AE49: 消費税（8％） | AO49: =IF(AO45="","",INT(AO45*0.08))
AE50: 合計（税込) | AO50: =IF(SUM(AO44:AT46)=0,"",SUM(AO47:AT49))
B52: １）請求書の記入について | J52: ● | L52: 工事コード | R52: ごとに作成して下さい。
J54: ● | L54: 工事コードがない場合は適宣まとめて作成して下さい。
J56: ● | L56: 業者コード | R56: は必ず記入して下さい。未定の場合は空白にしておいて下さい。
B58: ２）請求書の提出について | J58: ● | L58: 請求書NO. | R58: を付番して、「請求書送付案内」に添付して提出して下さい。
J60: ● | L60: ①請求書控を除く３枚を所定の日までに提出して下さい。提出が遅れますと翌月扱いとなります
L61: のでご注意下さい
C62: ①請求者控
S63: 請 求 書 | AD63: Ｂ | AP63: 請求書No． | AW63: 月 | BA63: 番
AV64: =IF(ISBLANK($AV$5), "", $AV$5) -> 10 | AY64: - | AZ64: =IF(ISBLANK($AZ$5), "", $AZ$5) -> 1
B65: 小菅建設興業株式会社 御中 | AP65: 請求年月日 | AV65: =IF(ISBLANK($AV$6), "", $AV$6) -> 45230
B68: 下記の通り請求致します。 | AD68: 会社名・社名・電話番号
AD69: =IF(会社情報!$C$6="しない",会社情報!$C$14,"") -> 956 | AG69: =IF(会社情報!$C$6="しない","-","") -> - | AH69: =IF(会社情報!$C$6="しない",会社情報!$F$14,"") -> 1937
AD70: =IF(会社情報!$C$6="しない",会社情報!$C$15,"") -> 阿賀野市福井905番地
B72: 工事名又は納入場所 | D72: =D13 -> 0 | O72: 工事ｺｰﾄﾞ | S72: =IF(ISBLANK($S$13), "", $S$13) | Y72: =IF(ISBLANK($Y$13), "", $Y$13) | AD72: =IF(会社情報!$C$6="しない",会社情報!$C$16,"") -> 小菅建設興業株式会社
X73: -
AD74: =IF(会社情報!$C$6="しない",会社情報!$C$17,"") -> 登録番号 T 5110001011484
AD75: =IF(会社情報!$C$6="しない","TEL "&会社情報!$C$18,"") -> TEL 0250-62-0505
AD76: =IF(会社情報!$C$6="しない","FAX "&会社情報!$C$19,"") -> FAX 0250-62-1711
C78: 請 求 金 額 | M78: =M19 | AE78: 業者コード | AM78: =IF(会社情報!C9>0,会社情報!$C$9,"") -> 100001
AB81: 取引銀行 | AH81: =IF(会社情報!$C$6="しない",CONCATENATE(会社情報!$C$22,会社情報!$C$23),"") -> 第四北越銀行水原中央支店
AB83: 口座名義 | AH83: =IF(会社情報!$C$6="しない",会社情報!$C$24,"") -> ｺｽｹﾞｹﾝｾﾂｺｳｷﾞｮｳｶﾌﾞｼｷｶﾞｲｼ
AB85: 口座番号 | AH85: 種別 | AK85: =IF(会社情報!$C$6="しない",会社情報!$D$25,"") -> 当座 | AN85: 番号 | AQ85: =IF(会社情報!$C$6="しない",会社情報!$F$25,"") -> 9999999
B88: 納入月日 | C88: 品名又は摘要 | Q88: 税率 | T88: 軽減 | W88: 単位 | Z88: 数量 | AE88: 単価 | AJ88: 金額 | AP88: 工種 | AU88: 勘定科目
B89: =IF(ISBLANK($B$30), "", $B$30) | C89: =IF(ISBLANK($C30), "", $C30) | Q89: =IF(ISBLANK($V30), "", $V30) | T89: =IF(ISBLANK($Y30),"",$Y30) | W89: =IF(ISBLANK($AB30), "", $AB30) | Z89: =IF($AE$30="","",$AE$30) | AE89: =IF($AJ$30="","",$AJ$30) | AJ89: =$AO$30 | AZ89: -
B90: =IF(ISBLANK($B$31), "", $B$31) | C90: =IF(ISBLANK($C31), "", $C31) | Q90: =IF(ISBLANK($V31), "", $V31) | T90: =IF(ISBLANK($Y31),"",$Y31) | W90: =IF(ISBLANK($AB31), "", $AB31) | Z90: =IF($AE$31="","",$AE$31) | AE90: =IF($AJ$31="","",$AJ$31) | AJ90: =$AO$31 | AZ90: -
B91: =IF(ISBLANK($B$32), "", $B$32) | C91: =IF(ISBLANK($C32), "", $C32) | Q91: =IF(ISBLANK($V32), "", $V32) | T91: =IF(ISBLANK($Y32),"",$Y32) | W91: =IF(ISBLANK($AB32), "", $AB32) | Z91: =IF($AE32="","",$AE$32) | AE91: =IF($AJ$32="","",$AJ$32) | AJ91: =$AO$32 | AZ91: -
B92: =IF(ISBLANK($B$33), "", $B$33) | C92: =IF(ISBLANK($C33), "", $C33) | Q92: =IF(ISBLANK($V33), "", $V33) | T92: =IF(ISBLANK($Y33),"",$Y33) | W92: =IF(ISBLANK($AB33), "", $AB33) | Z92: =IF($AE$33="","",$AE$33) | AE92: =IF($AJ$33="","",$AJ$33) | AJ92: =$AO$33 | AZ92: -
B93: =IF(ISBLANK($B$34), "", $B$34) | C93: =IF(ISBLANK($C34), "", $C34) | Q93: =IF(ISBLANK($V34), "", $V34) | T93: =IF(ISBLANK($Y34),"",$Y34) | W93: =IF(ISBLANK($AB34), "", $AB34) | Z93: =IF($AE$34="","",$AE$34) | AE93: =IF($AJ$34="","",$AJ$34) | AJ93: =$AO$34 | AZ93: -
B94: =IF(ISBLANK($B$35), "", $B$35) | C94: =IF(ISBLANK($C35), "", $C35) | Q94: =IF(ISBLANK($V35), "", $V35) | T94: =IF(ISBLANK($Y35),"",$Y35) | W94: =IF(ISBLANK($AB35), "", $AB35) | Z94: =IF($AE$35="","",$AE$35) | AE94: =IF($AJ$35="","",$AJ$35) | AJ94: =$AO$35 | AZ94: -
B95: =IF(ISBLANK($B$36), "", $B$36) | C95: =IF(ISBLANK($C36), "", $C36) | Q95: =IF(ISBLANK($V36), "", $V36) | T95: =IF(ISBLANK($Y36),"",$Y36) | W95: =IF(ISBLANK($AB36), "", $AB36) | Z95: =IF($AE$36="","",$AE$36) | AE95: =IF($AJ$36="","",$AJ$36) | AJ95: =$AO$36 | AZ95: -
B96: =IF(ISBLANK($B$37), "", $B$37) | C96: =IF(ISBLANK($C37), "", $C37) | Q96: =IF(ISBLANK($V37), "", $V37) | T96: =IF(ISBLANK($Y37),"",$Y37) | W96: =IF(ISBLANK($AB37), "", $AB37) | Z96: =IF($AE$37="","",$AE$37) | AE96: =IF($AJ$37="","",$AJ$37) | AJ96: =$AO$37 | AZ96: -
B97: =IF(ISBLANK($B$38), "", $B$38) | C97: =IF(ISBLANK($C38), "", $C38) | Q97: =IF(ISBLANK($V38), "", $V38) | T97: =IF(ISBLANK($Y38),"",$Y38) | W97: =IF(ISBLANK($AB38), "", $AB38) | Z97: =IF($AE$38="","",$AE$38) | AE97: =IF($AJ$38="","",$AJ$38) | AJ97: =$AO$38 | AZ97: -
B98: =IF(ISBLANK($B$39), "", $B$39) | C98: =IF(ISBLANK($C39), "", $C39) | Q98: =IF(ISBLANK($V39), "", $V39) | T98: =IF(ISBLANK($Y39),"",$Y39) | W98: =IF(ISBLANK($AB39), "", $AB39) | Z98: =IF($AE$39="","",$AE$39) | AE98: =IF($AJ$39="","",$AJ$39) | AJ98: =$AO$39 | AZ98: -
B99: =IF(ISBLANK($B$40), "", $B$40) | C99: =IF(ISBLANK($C40), "", $C40) | Q99: =IF(ISBLANK($V40), "", $V40) | T99: =IF(ISBLANK($Y40),"",$Y40) | W99: =IF(ISBLANK($AB40), "", $AB40) | Z99: =IF($AE$40="","",$AE$40) | AE99: =IF($AJ$40="","",$AJ$40) | AJ99: =$AO$40 | AZ99: -
B100: =IF(ISBLANK($B$41), "", $B$41) | C100: =IF(ISBLANK($C41), "", $C41) | Q100: =IF(ISBLANK($V41), "", $V41) | T100: =IF(ISBLANK($Y41),"",$Y41) | W100: =IF(ISBLANK($AB41), "", $AB41) | Z100: =IF($AE$41="","",$AE$41) | AE100: =IF($AJ$41="","",$AJ$41) | AJ100: =$AO$41 | AZ100: -
B101: =IF(ISBLANK($B$42), "", $B$42) | C101: =IF(ISBLANK($C42), "", $C42) | Q101: =IF(ISBLANK($V42), "", $V42) | T101: =IF(ISBLANK($Y42),"",$Y42) | W101: =IF(ISBLANK($AB42), "", $AB42) | Z101: =IF($AE$42="","",$AE$42) | AE101: =IF($AJ$42="","",$AJ$42) | AJ101: =$AO$42 | AZ101: -
B102: =IF(ISBLANK($B$43), "", $B$43) | C102: =IF(ISBLANK($C43), "", $C43) | Q102: =IF(ISBLANK($V43), "", $V43) | T102: =IF(ISBLANK($Y43),"",$Y43) | W102: =IF(ISBLANK($AB43), "", $AB43) | Z102: =IF($AE$43="","",$AE$43) | AE102: =IF($AJ$43="","",$AJ$43) | AJ102: =$AO$43 | AZ102: -
Z103: =IF($AE$44="","",$AE$44) -> うち10％対象計 | AJ103: =$AO$44
Z104: =IF($AE$45="","",$AE$45) -> うち8％対象計 | AJ104: =$AO$45
Z105: =IF($AE$46="","",$AE$46) -> うち0％対象計 | AJ105: =$AO$46
Z106: =IF($AE$47="","",$AE$47) -> 小計（税抜） | AJ106: =$AO$47
Z107: =IF($AE$48="","",$AE$48) -> 消費税（10％） | AJ107: =$AO$48
Z108: =IF($AE$49="","",$AE$49) -> 消費税（8％） | AJ108: =$AO$49
Z109: =IF($AE$50="","",$AE$50) -> 合計（税込) | AJ109: =$AO$50
C113: 照 合 | H113: 確 認 | O113: 決 済 | T113: 承 認 | AA113: 入 力 | AF113: 検 証 | AM113: 現 金 | AU113: %
AM115: 手 形 | AU115: %
AM117: ( ) | AQ117: 計
AM120: Ｎｏ．
C121: ②経理部・原本
S122: 請 求 書 | AD122: Ｂ | AP122: 請求書No． | AW122: 月 | BA122: 番
AV123: =IF(ISBLANK($AV$5), "", $AV$5) -> 10 | AY123: - | AZ123: =IF(ISBLANK($AZ$5), "", $AZ$5) -> 1
B124: 小菅建設興業株式会社 御中 | AP124: 請求年月日 | AV124: =IF(ISBLANK($AV$6), "", $AV$6) -> 45230
B127: 下記の通り請求致します。 | AD127: 会社名・社名・電話番号
AD128: =IF(会社情報!$C$6="しない",会社情報!$C$14,"") -> 956 | AG128: =IF(会社情報!$C$6="しない","-","") -> - | AH128: =IF(会社情報!$C$6="しない",会社情報!$F$14,"") -> 1937
AD129: =IF(会社情報!$C$6="しない",会社情報!$C$15,"") -> 阿賀野市福井905番地
B131: 工事名又は納入場所 | D131: =D72 -> 0 | O131: 工事ｺｰﾄﾞ | S131: =IF(ISBLANK($S$13), "", $S$13) | Y131: =IF(ISBLANK($Y$13), "", $Y$13) | AD131: =IF(会社情報!$C$6="しない",会社情報!$C$16,"") -> 小菅建設興業株式会社
X132: -
AD133: =IF(会社情報!$C$6="しない",会社情報!$C$17,"") -> 登録番号 T 5110001011484
AD134: =IF(会社情報!$C$6="しない","TEL "&会社情報!$C$18,"") -> TEL 0250-62-0505
AD135: =IF(会社情報!$C$6="しない","FAX "&会社情報!$C$19,"") -> FAX 0250-62-1711
C137: 請 求 金 額 | M137: =M78 | AE137: 業者コード | AM137: =IF(会社情報!C9>0,会社情報!$C$9,"") -> 100001
AB140: 取引銀行 | AH140: =IF(会社情報!$C$6="しない",CONCATENATE(会社情報!$C$22,会社情報!$C$23),"") -> 第四北越銀行水原中央支店
AB142: 口座名義 | AH142: =IF(会社情報!$C$6="しない",会社情報!$C$24,"") -> ｺｽｹﾞｹﾝｾﾂｺｳｷﾞｮｳｶﾌﾞｼｷｶﾞｲｼ
...

Sheet 請求書Ｂ 白紙（手書用）
S4: 請 求 書 | AD4: Ｂ | AP4: 請求書No． | AW4: 月 | BA4: 番
AY5: -
B6: 小菅建設興業株式会社 御中 | AP6: 請求年月日
B9: 下記の通り請求致します。 | AD9: 会社名・社名・登録番号・電話・FAX
AG10: =IF(会社情報!$C$6="しない","-","") -> -
B13: 工事名又は納入場所 | O13: 工事ｺｰﾄﾞ
X14: -
AD15: 登録番号 T
AD16: TEL
AD17: FAX
C19: 請 求 金 額 | M19: =AO50 | AE19: 業者コード
AB22: 取引銀行
AB24: 口座名義
AB26: 口座番号 | AH26: 種別 | AN26: 番号
B27: 単価は消費税抜きで入力（記入）して下さい
B29: 日付 | C29: 品名又は摘要 | V29: 税率 | Y29: 軽減 | AB29: 単位 | AE29: 数量 | AJ29: 単価 | AO29: 金額
Y30: =IF(V30=8%,"※","") | AO30: =IF(AJ30="","",ROUND(AE30*AJ30,0.1))
Y31: =IF(V31=8%,"※","") | AO31: =IF(AJ31="","",ROUND(AE31*AJ31,0.1))
Y32: =IF(V32=8%,"※","") | AO32: =IF(AJ32="","",ROUND(AE32*AJ32,0.1))
Y33: =IF(V33=8%,"※","") | AO33: =IF(AJ33="","",ROUND(AE33*AJ33,0.1))
Y34: =IF(V34=8%,"※","") | AO34: =IF(AJ34="","",ROUND(AE34*AJ34,0.1))
Y35: =IF(V35=8%,"※","") | AO35: =IF(AJ35="","",ROUND(AE35*AJ35,0.1))
Y36: =IF(V36=8%,"※","") | AO36: =IF(AJ36="","",ROUND(AE36*AJ36,0.1))
Y37: =IF(V37=8%,"※","") | AO37: =IF(AJ37="","",ROUND(AE37*AJ37,0.1))
Y38: =IF(V38=8%,"※","") | AO38: =IF(AJ38="","",ROUND(AE38*AJ38,0.1))
Y39: =IF(V39=8%,"※","") | AO39: =IF(AJ39="","",ROUND(AE39*AJ39,0.1))
Y40: =IF(V40=8%,"※","") | AO40: =IF(AJ40="","",ROUND(AE40*AJ40,0.1))
Y41: =IF(V41=8%,"※","") | AO41: =IF(AJ41="","",ROUND(AE41*AJ41,0.1))
... Y43: =IF(V43=8%,"※","") | AO43: =IF(AJ43="","",ROUND(AE43*AJ43,0.1))
AE44: うち10％対象計 | AO44: =IF(SUM(AO30:AT43)=0,"",(SUMIF(V30:X43,"10%",AO30:AT43)))
AE45: うち8％対象計 | AO45: =IF(SUM(AO30:AT43)=0,"",(SUMIF(V30:X43,"8%",AO30:AT43)))
AE46: うち0％対象計 | AO46: =IF(SUM(AO30:AT43)=0,"",(SUMIF(V30:X43,"0%",AO30:AT43)))
AE47: 小計（税抜） | AO47: =IF(SUM(AO44:AT46)=0,"",SUM(AO44:AT46))
AE48: 消費税（10％） | AO48: =IF(AO44="","",INT(AO44*0.1))
AE49: 消費税（8％） | AO49: =IF(AO45="","",INT(AO45*0.08))
AE50: 合計（税込) | AO50: =IF(SUM(AO44:AT46)=0,"",SUM(AO47:AT49))
B52: １）請求書の記入について | J52: ● | L52: 工事コード | R52: ごとに作成して下さい。
J54: ● | L54: 工事コードがない場合は適宣まとめて作成して下さい。
J56: ● | L56: 業者コード | R56: は必ず記入して下さい。未定の場合は空白にしておいて下さい。
B58: ２）請求書の提出について | J58: ● | L58: 請求書NO. | R58: を付番して、「請求書送付案内」に添付して提出して下さい。
J60: ● | L60: ①請求書控を除く３枚を所定の日までに提出して下さい。提出が遅れますと翌月扱いとなります
L61: のでご注意下さい
C62: ①請求者控
