Workbook

Sheet 会社情報
B2: 会社情報の入力
B4: 請求書の貴社名にゴム印を使用しますか？
B6: ゴム印を使用 | C6: しない
B8: 貴社の業者コード（数字６ケタ）をご入力下さい。
B9: 業者コード | C9: 100001
B10: *業者コードが不明の場合は、弊社担当者までお問い合わせ下さい。
B11: *業者コードが未定の場合は取引銀行欄の記入をお願いします。
B13: 貴社名（商号）、代表者、住所、電話番号についてご入力下さい。
B14: 〒番号 | C14: 956 | E14: － | F14: 1937
B15: 住所 | C15: 阿賀野市福井905番地
B16: 会社名 | C16: 小菅建設興業株式会社
B17: インボイス | C17: 登録番号 T 5110001011484
B18: 電話番号（連絡先） | C18: 0250-62-0505 | J18: "-"を入れて下さい
B19: FAX番号（連絡先） | C19: 0250-62-1711 | J19: "-"を入れて下さい
B21: 取引銀行についてご入力下さい。
B22: 銀行名 | C22: 第四北越銀行
B23: 店名 | C23: 水原中央支店
B24: 口座名（ｶﾀｶﾅ） | C24: ｺｽｹﾞｹﾝｾﾂｺｳｷﾞｮｳｶﾌﾞｼｷｶﾞｲｼ
B25: 口座種別／番号 | C25: 種別 | D25: 当座 | E25: 番号 | F25: 9999999

Sheet 請求書Ｂ
S4: 請 求 書 | AD4: Ｂ | AP4: 請求書No． | AW4: 月 | BA4: 番
AV5: 10 | AY5: - | AZ5: 1
B6: 小菅建設興業株式会社 御中 | AP6: 請求年月日 | AV6: 45230
B9: 下記の通り請求致します。 | AD9: 会社名・社名・登録番号・電話・FAX
AD10: =IF(会社情報!$C$6="しない",会社情報!$C$14,"") -> 956 | AG10: =IF(会社情報!$C$6="しない","-","") -> - | AH10: =IF(会社情報!$C$6="しない",会社情報!$F$14,"") -> 1937
AD11: =IF(会社情報!$C$6="しない",会社情報!$C$15,"") -> 阿賀野市福井905番地
B13: 工事名又は納入場所 | O13: 工事ｺｰﾄﾞ | AD13: =IF(会社情報!$C$6="しない",会社情報!$C$16,"") -> 小菅建設興業株式会社
X14: -
AD15: =IF(会社情報!$C$6="しない",会社情報!$C$17,"") -> 登録番号 T 5110001011484
AD16: =IF(会社情報!$C$6="しない","TEL "&会社情報!$C$18,"") -> TEL 0250-62-0505
AD17: =IF(会社情報!$C$6="しない","FAX "&会社情報!$C$19,"") -> FAX 0250-62-1711
C19: 請 求 金 額 | M19: =AO50 | AE19: 業者コード | AM19: =IF(会社情報!C9>0,会社情報!$C$9,"") -> 100001
AB22: 取引銀行 | AH22: =IF(会社情報!$C$6="しない",CONCATENATE(会社情報!$C$22,会社情報!$C$23),"") -> 第四北越銀行水原中央支店
AB24: 口座名義 | AH24: =IF(会社情報!$C$6="しない",会社情報!$C$24,"") -> ｺｽｹﾞｹﾝｾﾂｺｳｷﾞｮｳｶﾌﾞｼｷｶﾞｲｼ
AB26: 口座番号 | AH26: 種別 | AK26: =IF(会社情報!$C$6="しない",会社情報!$D$25,"") -> 当座 | AN26: 番号 | AQ26: =IF(会社情報!$C$6="しない",会社情報!$F$25,"") -> 9999999
B27: 単価は消費税抜きで入力（記入）して下さい
B29: 日付 | C29: 品名又は摘要 | V29: 税率 | Y29: 軽減 | AB29: 単位 | AE29: 数量 | AJ29: 単価 | AO29: 金額
Y30: =IF(V30=8%,"※","") | AO30: =IF(AJ30="","",ROUND(AE30*AJ30,0.1))
Y31: =IF(V31=8%,"※","") | AO31: =IF(AJ31="","",ROUND(AE31*AJ31,0.1))
Y32: =IF(V32=8%,"※","") | AO32: =IF(AJ32="","",ROUND(AE32*AJ32,0.1))
Y33: =IF(V33=8%,"※","") | AO33: =IF(AJ33="","",ROUND(AE33*AJ33,0.1))
Y34: =IF(V34=8%,"※","") | AO34: =IF(AJ34="","",ROUND(AE34*AJ34,0.1))
Y35: =IF(V35=8%,"※","") | AO35: =IF(AJ35="","",ROUND(AE35*AJ35,0.1))
Y36: =IF(V36=8%,"※","") | AO36: =IF(AJ36="","",ROUND(AE36*AJ36,0.1))
Y37: =IF(V37=8%,"※","") | AO37: =IF(AJ37="","",ROUND(AE37*AJ37,0.1))
Y38: =IF(V38=8%,"※","") | AO38: =IF(AJ38="","",ROUND(AE38*AJ38,0.1))
Y39: =IF(V39=8%,"※","") | AO39: =IF(AJ39="","",ROUND(AE39*AJ39,0.1))
Y40: =IF(V40=8%,"※","") | AO40: =IF(AJ40="","",ROUND(AE40*AJ40,0.1))
Y41: =IF(V41=8%,"※","") | AO41: =IF(AJ41="","",ROUND(AE41*AJ41,0.1))
... Y43: =IF(V43=8%,"※","") | AO43: =IF(AJ43="","",ROUND(AE43*AJ43,0.1))
AE44: うち10％対象計 | AO44: =IF(SUM(AO30:AT43)=0,"",(SUMIF(V30:X43,"10%",AO30:AT43)))
AE45: うち8％対象計 | AO45: =IF(SUM(AO30:AT43)=0,"",(SUMIF(V30:X43,"8%",AO30:AT43)))
AE46: うち0％対象計 | AO46: =IF(SUM(AO30:AT43)=0,"",(SUMIF(V30:X43,"0%",AO30:AT43)))
AE47: 小計（税抜） | AO47: =IF(SUM(AO44:AT46)=0,"",SUM(AO44:AT46))
AE48: 消費税（10％） | AO48: =IF(AO44="","",INT(AO44*0.1))
AE49: 消費税（8％） | AO49: =IF(AO45="","",INT(AO45*0.08))
AE50: 合計（税込) | AO50: =IF(SUM(AO44:AT46)=0,"",SUM(AO47:AT49))
B52: １）請求書の記入について | J52: ● | L52: 工事コード | R52: ごとに作成して下さい。
J54: ● | L54: 工事コードがない場合は適宣まとめて作成して下さい。
J56: ● | L56: 業者コード | R56: は必ず記入して下さい。未定の場合は空白にしておいて下さい。
...

Sheet 請求書Ｂ 白紙（手書用）
S4: 請 求 書 | AD4: Ｂ | AP4: 請求書No． | AW4: 月 | BA4: 番
AY5: -
B6: 小菅建設興業株式会社 御中 | AP6: 請求年月日
B9: 下記の通り請求致します。 | AD9: 会社名・社名・登録番号・電話・FAX
AG10: =IF(会社情報!$C$6="しない","-","") -> -
B13: 工事名又は納入場所 | O13: 工事ｺｰﾄﾞ
X14: -
AD15: 登録番号 T
AD16: TEL
AD17: FAX
C19: 請 求 金 額 | M19: =AO50 | AE19: 業者コード
AB22: 取引銀行
AB24: 口座名義
AB26: 口座番号 | AH26: 種別 | AN26: 番号
B27: 単価は消費税抜きで入力（記入）して下さい
B29: 日付 | C29: 品名又は摘要 | V29: 税率 | Y29: 軽減 | AB29: 単位 | AE29: 数量 | AJ29: 単価 | AO29: 金額
Y30: =IF(V30=8%,"※","") | AO30: =IF(AJ30="","",ROUND(AE30*AJ30,0.1))
Y31: =IF(V31=8%,"※","") | AO31: =IF(AJ31="","",ROUND(AE31*AJ31,0.1))
Y32: =IF(V32=8%,"※","") | AO32: =IF(AJ32="","",ROUND(AE32*AJ32,0.1))
Y33: =IF(V33=8%,"※","") | AO33: =IF(AJ33="","",ROUND(AE33*AJ33,0.1))
Y34: =IF(V34=8%,"※","") | AO34: =IF(AJ34="","",ROUND(AE34*AJ34,0.1))
Y35: =IF(V35=8%,"※","") | AO35: =IF(AJ35="","",ROUND(AE35*AJ35,0.1))
Y36: =IF(V36=8%,"※","") | AO36: =IF(AJ36="","",ROUND(AE36*AJ36,0.1))
Y37: =IF(V37=8%,"※","") | AO37: =IF(AJ37="","",ROUND(AE37*AJ37,0.1))
Y38: =IF(V38=8%,"※","") | AO38: =IF(AJ38="","",ROUND(AE38*AJ38,0.1))
Y39: =IF(V39=8%,"※","") | AO39: =IF(AJ39="","",ROUND(AE39*AJ39,0.1))
Y40: =IF(V40=8%,"※","") | AO40: =IF(AJ40="","",ROUND(AE40*AJ40,0.1))
Y41: =IF(V41=8%,"※","") | AO41: =IF(AJ41="","",ROUND(AE41*AJ41,0.1))
... Y43: =IF(V43=8%,"※","") | AO43: =IF(AJ43="","",ROUND(AE43*AJ43,0.1))
AE44: うち10％対象計 | AO44: =IF(SUM(AO30:AT43)=0,"",(SUMIF(V30:X43,"10%",AO30:AT43)))
AE45: うち8％対象計 | AO45: =IF(SUM(AO30:AT43)=0,"",(SUMIF(V30:X43,"8%",AO30:AT43)))
AE46: うち0％対象計 | AO46: =IF(SUM(AO30:AT43)=0,"",(SUMIF(V30:X43,"0%",AO30:AT43)))
AE47: 小計（税抜） | AO47: =IF(SUM(AO44:AT46)=0,"",SUM(AO44:AT46))
AE48: 消費税（10％） | AO48: =IF(AO44="","",INT(AO44*0.1))
AE49: 消費税（8％） | AO49: =IF(AO45="","",INT(AO45*0.08))
AE50: 合計（税込) | AO50: =IF(SUM(AO44:AT46)=0,"",SUM(AO47:AT49))
B52: １）請求書の記入について | J52: ● | L52: 工事コード | R52: ごとに作成して下さい。
J54: ● | L54: 工事コードがない場合は適宣まとめて作成して下さい。
J56: ● | L56: 業者コード | R56: は必ず記入して下さい。未定の場合は空白にしておいて下さい。
B58: ２）請求書の提出について | J58: ● | L58: 請求書NO. | R58: を付番して、「請求書送付案内」に添付して提出して下さい。
...
